BEGIN:VCALENDAR
VERSION:2.0
PRODID:-//eventon.com NONSGML v1.0//EN
CALSCALE:GREGORIAN
METHOD:PUBLISH
BEGIN:VEVENT
UID:69e5eda2404ec
DTSTAMP:20260420T091058Z
DTSTART:20180123T130000Z
DTEND:20180123T140000Z
LOCATION:
SUMMARY:Immowebinar
DESCRIPTION:Thema: Aktuelle Judikatur – Spezial: 6./7./8. Klauselentschei
 dung (MRG-Schwerpunkt) Mag. Andrej Grieb (Richter am LGZ Wien) Kosten: kein
 e Das Webinar findet über diese Website statt\,  die auch weitere Infos be
 inhaltet.
URL:https://immobranche.at/events/immowebinar-9/
END:VEVENT
END:VCALENDAR