BEGIN:VCALENDAR
VERSION:2.0
PRODID:-//eventon.com NONSGML v1.0//EN
CALSCALE:GREGORIAN
METHOD:PUBLISH
BEGIN:VEVENT
UID:69ea966e706cb
DTSTAMP:20260423T220014Z
DTSTART:20221002
DTEND:20221003
LOCATION:Messe Frankfurt Ludwig-Erhard-Anlage 1\,  60327 Frankfurt am Main
SUMMARY:light+building
DESCRIPTION:www.light-building.com
URL:https://immobranche.at/events/start-der-light-building/
END:VEVENT
END:VCALENDAR