BEGIN:VCALENDAR
VERSION:2.0
PRODID:-//eventon.com NONSGML v1.0//EN
CALSCALE:GREGORIAN
METHOD:PUBLISH
BEGIN:VEVENT
UID:69e9129ce77aa
DTSTAMP:20260422T182532Z
DTSTART:20210915
DTEND:20210916
LOCATION:Park Hyatt Vienna Am Hof 2\,  1010 Wien
SUMMARY:FM-Day 2021
DESCRIPTION:Veränderung leben. Chancen nutzen. In den letzten Monaten habe
 n wir gemeinsam gezeigt\,  wie man mit Flexibilität und Innovation\,  Hera
 usforderungen nicht nur meistern\,  sondern auch voneinander lernen und pro
 fitieren kann.Facility Management hat hierbei eine bedeutende Rolle eingeno
 mmen. Die jüngste Vergangenheit hat uns erlaubt\,  aber auch in vielen Ber
 eichen dazu gezwungen\,  Bestehendes[..]
URL:https://immobranche.at/events/fm-day-2021-2/
END:VEVENT
END:VCALENDAR