BEGIN:VCALENDAR
VERSION:2.0
PRODID:-//eventon.com NONSGML v1.0//EN
CALSCALE:GREGORIAN
METHOD:PUBLISH
BEGIN:VEVENT
UID:69ea0b73d6d42
DTSTAMP:20260423T120715Z
DTSTART:20210324T090000Z
DTEND:20210324T100000Z
LOCATION:Virtuelle Veranstaltung
SUMMARY:Immobilienrecht - BÃ¼romieten
DESCRIPTION:â€¢ Hybride Arbeitsformen? Anforderungen an BÃ¼ros der Zukunftâ
 €¢ Auswirkungen der COVID-19-Krise auf MietvertrÃ¤geâ€¢ Mietzinsreduktion i
 n Zeiten von COVID-19Dr. Birgit Kraml\,  LL.M.\,  Partner\,  Wolf Theiss Re
 chtsanwÃ¤lte Die Corona-Pandemie hat die Arbeitswelt verÃ¤ndert und stellt 
 Arbeitgeber sowohl kurz- als auch langfristig vor eine Vielzahl neuer Herau
 sforderungen. In der Wolf Theiss Webinar-Serie &#8222;Neue[..]
URL:https://immobranche.at/events/immobilienrecht-bueromieten/
END:VEVENT
END:VCALENDAR