BEGIN:VCALENDAR
VERSION:2.0
PRODID:-//eventon.com NONSGML v1.0//EN
CALSCALE:GREGORIAN
METHOD:PUBLISH
BEGIN:VEVENT
UID:69eac9827708d
DTSTAMP:20260424T013810Z
DTSTART:20210324T070000Z
DTEND:20210324T080000Z
LOCATION:online - machen Sie es sich gemütlich
SUMMARY:Relaunch? D-City statt Donauplatte
DESCRIPTION:Online-Gesprächsrunde im Rahmen der Metropole Insights Wien Mi
 t Wolf-Dieter Jarisch (S+B Gruppe) und Much Untertrifaller (Dietrich Untert
 rifaller Architekten) Im 22. Bezirk wird die Donau City an einer der städt
 ebaulich wichtigsten Entwicklungsachsen Wiens kreiert. Das Stadtentwicklung
 svorhaben verfügt über eine optimale Lage am linken Donauufer und zeichne
 t sich durch eine gute Verkehrsanbindung[..]
URL:https://immobranche.at/events/relaunch-d-city-statt-donauplatte/
END:VEVENT
END:VCALENDAR