BEGIN:VCALENDAR
VERSION:2.0
PRODID:-//eventon.com NONSGML v1.0//EN
CALSCALE:GREGORIAN
METHOD:PUBLISH
BEGIN:VEVENT
UID:69e9dd484840c
DTSTAMP:20260423T085016Z
DTSTART:20210427T070000Z
DTEND:20210427T150000Z
LOCATION:Wien 1010 Wien
SUMMARY:Ersteinführung Facility Management  und Benchmarking
DESCRIPTION:Grundzusammenhänge und wichtige BegriffeLebenszyklen und ganzh
 eitliche ErfolgsstrategienDie wichtigsten Aufgaben und Themen im FMKosten u
 nd Nutzen bei der Bewirtschaftung von komplexen ImmobilienDie wichtigsten N
 ormenDie FM Landschaft in ÖsterreichBenchmarking – durch Vergleichen ler
 nenDie wichtigsten Kennzahlen\,  erfolgversprechende und weniger erfolgvers
 prechende MethodenAusbildungen und weiterführende Informationsquellen
URL:https://immobranche.at/events/ersteinfuehrung-facility-management-und-benchmarking-2/
END:VEVENT
END:VCALENDAR