BEGIN:VCALENDAR
VERSION:2.0
PRODID:-//eventon.com NONSGML v1.0//EN
CALSCALE:GREGORIAN
METHOD:PUBLISH
BEGIN:VEVENT
UID:69e9ddee3e269
DTSTAMP:20260423T085302Z
DTSTART:20210601
DTEND:20210602
LOCATION:
SUMMARY:RICS Focus 2021
DESCRIPTION:The Big Transformation – People. Planet. Prosperity &#8211; N
 eue Perspektiven durch ESG für die Immobilienwirtschaft Aktuell gibt es ka
 um eine Perspektive\,  die nicht eine neue Normalität beschreibt. Diese is
 t zudem oft geprägt von einer neuen\,  jungen Generation\,  die für eine 
 bessere Welt kämpft. Werden sie sich durchsetzen und auch die[..]
URL:https://immobranche.at/events/rics-focus-2021/
END:VEVENT
END:VCALENDAR