BEGIN:VCALENDAR
VERSION:2.0
PRODID:-//eventon.com NONSGML v1.0//EN
CALSCALE:GREGORIAN
METHOD:PUBLISH
BEGIN:VEVENT
UID:69e6951f61abe
DTSTAMP:20260420T210535Z
DTSTART:20210626T090000Z
DTEND:20210626T103000Z
LOCATION:Wiener Konzerthaus Lothringerstraße 20\,  1030 Wien
SUMMARY:EHL-Benefizkonzert
DESCRIPTION:Das Benefizkonzert im Mozartsaal des Wiener Konzerthauses kann 
 stattfinden! Viele Immobilienunternehmen unterstützen das Konzert\,  gespi
 elt werden diesmal: Vivaldis Vier Jahreszeiten: Der Frühling und der Somme
 r Mozart: Sinfonie in A-Dur Orchester: Camerata academica Wien\,  mit Mitgl
 iedern der Wiener SymphonikerDirigent &amp; Moderation: Prof. Christian Bir
 nbaumSeitens EHL werden Michael Ehlmaier und Sandra Bauernfeind[..]
URL:https://immobranche.at/events/ehl-benefizkonzert/
END:VEVENT
END:VCALENDAR