BEGIN:VCALENDAR
VERSION:2.0
PRODID:-//eventon.com NONSGML v1.0//EN
CALSCALE:GREGORIAN
METHOD:PUBLISH
BEGIN:VEVENT
UID:69ea6bba885d6
DTSTAMP:20260423T185802Z
DTSTART:20220623
DTEND:20220624
LOCATION:Stadtsaal Kufstein Georg-Pirmoser-Straße 8\,  6330 Kufstein
SUMMARY:Bundestag
DESCRIPTION:Die Immobilienwirtschaft steht am Anfang eines tiefgreifenden W
 andels\,  ausgelöst durch Veränderungen in Technologie\,  Wirtschaft und 
 Gesellschaft. Einige digitale Tools stecken noch in den Kinderschuhen\,  an
 dere schreiten mit großen Schritten voran. Smart Buildings\,  innovative B
 auformen\,  künstliche Intelligenz und 3D-Visualisierungen mischen den Mar
 kt auf und stellen neue Anforderungen an die Vermarktung. Wie[..]
URL:https://immobranche.at/events/bundestag-2022/
END:VEVENT
END:VCALENDAR