BEGIN:VCALENDAR
VERSION:2.0
PRODID:-//eventon.com NONSGML v1.0//EN
CALSCALE:GREGORIAN
METHOD:PUBLISH
BEGIN:VEVENT
UID:69eb2dfd54c7e
DTSTAMP:20260424T084653Z
DTSTART:20220519T150000Z
DTEND:20220519T173000Z
LOCATION:
SUMMARY:Branchentreff des österreichischen Handels
DESCRIPTION:Im Rahmen des neuen &#8222;Shoppingcenter Performance Report Ö
 sterreich 2022&#8220; gibt es am Nachmittag ein Get Together.
URL:https://immobranche.at/events/branchentreff-des-oesterreichischen-handels/
END:VEVENT
END:VCALENDAR