BEGIN:VCALENDAR
VERSION:2.0
PRODID:-//eventon.com NONSGML v1.0//EN
CALSCALE:GREGORIAN
METHOD:PUBLISH
BEGIN:VEVENT
UID:69e5ee2dc83b7
DTSTAMP:20260420T091317Z
DTSTART:20240627
DTEND:20240628
LOCATION:Loipersdorf 8282 Loipersdorf
SUMMARY:49. Bundestag der Immobilienwirtschaft
DESCRIPTION:
URL:https://immobranche.at/events/49-bundestag-der-immobilienwirtschaft/
END:VEVENT
END:VCALENDAR