BEGIN:VCALENDAR
VERSION:2.0
PRODID:-//eventon.com NONSGML v1.0//EN
CALSCALE:GREGORIAN
METHOD:PUBLISH
BEGIN:VEVENT
UID:69eb46a9dcd6b
DTSTAMP:20260424T103209Z
DTSTART:20250423T070000Z
DTEND:20250423T153000Z
LOCATION:Austria Trend Hotel Savoyen Rennweg 16 1030 Wien
SUMMARY:Nachhaltiges Bauen
DESCRIPTION:Inhalt: Nachhaltige und klimafitte Gebäude – how-to? Die Int
 egration und Umsetzung ökologischer Baumaßnahmen im Neubau und Bestand\, 
  bei Sanierung und Nachverdichtung Immobilienfinanzierung in volatilen Zeit
 en Wiener Weg zur Kreislaufwirtschaft im Bauwesen: ZiFa als Vehikel in der 
 Transformation Der Einsatz von regenerativen Materialien &amp; Treibhausgas
 emissionen von Gebäuden LCA in der Praxis:[..]
URL:https://immobranche.at/events/nachhaltiges-bauen-2/
END:VEVENT
END:VCALENDAR