BEGIN:VCALENDAR
VERSION:2.0
PRODID:-//eventon.com NONSGML v1.0//EN
CALSCALE:GREGORIAN
METHOD:PUBLISH
BEGIN:VEVENT
UID:69ea0541e4c9c
DTSTAMP:20260423T114049Z
DTSTART:20250326T163000Z
DTEND:20250326T183000Z
LOCATION:Geschäftsstelle FMA I IFMA Austria Wolfengasse 4\,  Top 12\,  1010 Wien
SUMMARY:Bio-inspiriertes FM
DESCRIPTION:Die Veranstalterin schreibt folgendes: Die Natur steckt voller 
 Inspiration – ein unendlicher Fundus neuartiger und nachhaltiger Konzepte
  für unsere Lebens- und Arbeitswelten. Stellt Euch vor\,  Ihr könnt dazu 
 beitragen\,  unsere Immobilien mit Hilfe der Natur nicht nur energieeffizie
 nter und nachhaltiger zu machen\,  sondern auch Abläufe zu optimieren und 
 innovative Betriebsprozesse[..]
URL:https://immobranche.at/events/bio-inspiriertes-fm/
END:VEVENT
END:VCALENDAR