BEGIN:VCALENDAR
VERSION:2.0
PRODID:-//eventon.com NONSGML v1.0//EN
CALSCALE:GREGORIAN
METHOD:PUBLISH
BEGIN:VEVENT
UID:69eb2fc4e82c4
DTSTAMP:20260424T085428Z
DTSTART:20250617T153000Z
DTEND:20250617T163000Z
LOCATION:Architekturzentrum Wien Museumsplatz 1\,  1070 Wien
SUMMARY:Suburbia
DESCRIPTION:Leben im amerikanischen Traum Suburbia zeichnet die Geschichte 
 eines amerikanischen Lebensideals nach\,  das die Welt eroberte und von pop
 ulären Medien unaufhörlich reproduziert wird. Gleichzeitig analysiert die
  Ausstellung die Widersprüche dieses Modells und seiner sozialen und ökol
 ogischen Folgen wie Flächenverbrauch\,  Versiegelung und Leerstand. Der am
 erikanische Traum lässt sich mit einem zeitlosen[..]
URL:https://immobranche.at/events/suburbia-6/
END:VEVENT
END:VCALENDAR