BEGIN:VCALENDAR
VERSION:2.0
PRODID:-//eventon.com NONSGML v1.0//EN
CALSCALE:GREGORIAN
METHOD:PUBLISH
BEGIN:VEVENT
UID:69e9f1057cccc
DTSTAMP:20260423T101429Z
DTSTART:20250924
DTEND:20250925
LOCATION:Park Hyatt Vienna Am Hof 2\,  1010 Wien
SUMMARY:FM Day 2025
DESCRIPTION:ChatGPT: Der FM-Day ist die zentrale Konferenz für Facility- u
 nd Real Estate-Management im deutschsprachigen Raum und versteht sich als P
 lattform für Verantwortung\,  Wandel und Innovation. Im Mittelpunkt stehen
  Themen wie nachhaltige Gebäude- und Arbeitswelten\,  der digitale Fortsch
 ritt mit KI und Datenmanagement sowie die Weiterentwicklung von Kompetenzen
  und Ausbildung im FM.[..]
URL:https://immobranche.at/events/fm-day-2025-2/
END:VEVENT
END:VCALENDAR