BEGIN:VCALENDAR
VERSION:2.0
PRODID:-//eventon.com NONSGML v1.0//EN
CALSCALE:GREGORIAN
METHOD:PUBLISH
BEGIN:VEVENT
UID:69e75c5e8ba2d
DTSTAMP:20260421T111542Z
DTSTART:20251021T073000Z
DTEND:20251021T150000Z
LOCATION:FH Campus Wien Favoritenstraße 226\,  1100 Wien
SUMMARY:15. Kongress der IG LEBENSZYKLUS BAU| Die Zukunft ist leistbar
DESCRIPTION:Was können – und was dürfen – wir uns heute noch leisten?
 In einer Zeit wachsender Krisen und knapper werdender Ressourcen stehen wir
  vor der dringenden Aufgabe\,  den verträglichsten Weg in die Zukunft zu f
 inden. Eine\,  die ökologisch\,  ökonomisch und sozial verantwortungsvoll
  ist – denn Nachhaltigkeit ist längst keine Option mehr\, [..]
URL:https://immobranche.at/events/15-kongress-der-ig-lebenszyklus-bau-die-zukunft-ist-leistbar/
END:VEVENT
END:VCALENDAR