BEGIN:VCALENDAR
VERSION:2.0
PRODID:-//eventon.com NONSGML v1.0//EN
CALSCALE:GREGORIAN
METHOD:PUBLISH
BEGIN:VEVENT
UID:69e9f0fe839b6
DTSTAMP:20260423T101422Z
DTSTART:20250910T160000Z
DTEND:20250910T190000Z
LOCATION:
SUMMARY:VÖPE 5-Jahresfeier
DESCRIPTION:
URL:https://immobranche.at/events/voepe-5-jahresfeier/
END:VEVENT
END:VCALENDAR