BEGIN:VCALENDAR
VERSION:2.0
PRODID:-//eventon.com NONSGML v1.0//EN
CALSCALE:GREGORIAN
METHOD:PUBLISH
BEGIN:VEVENT
UID:69e5ed783a9f6
DTSTAMP:20260420T091016Z
DTSTART:20251127
DTEND:20251128
LOCATION:Erste Campus Am Belvedere 1\,  1100 Wien
SUMMARY:ÖVI Bauträger- und Städtetag
DESCRIPTION:Die Immobilienwirtschaft befindet sich in fordernden Zeiten. Di
 e wirtschaftlichen Rahmenbedingungen der vergangenen beiden Jahre haben den
  Aktionsradius vieler Unternehmen deutlich beeinträchtigt. Wie es um die B
 ranche aktuell bestellt ist\,  welches wirtschaftliche und stadtpolitische 
 Umfeld derzeit dominiert und welche aktuellen Problemstellungen sich bei Ba
 uträgern und Projektentwicklung auftun\,  erfahren Sie in diesem[..]
URL:https://immobranche.at/events/oevi-bautraeger-und-staedtetag/
END:VEVENT
END:VCALENDAR