BEGIN:VCALENDAR
VERSION:2.0
PRODID:-//eventon.com NONSGML v1.0//EN
CALSCALE:GREGORIAN
METHOD:PUBLISH
BEGIN:VEVENT
UID:69e9f124628df
DTSTAMP:20260423T101500Z
DTSTART:20260415
DTEND:20260416
LOCATION:Austrian Standards Heinestraße 38\,  1020 Wien
SUMMARY:Zertifizierte:r Objektsicherheitsprüfer:in für Wohn- und Nicht-Wohngebäude
DESCRIPTION:Professionelle Objektsicherheitsprüfungen sind essenziell für
  die Werterhaltung eines Gebäudes und im Hinblick auf Haftungsfragen. Egal
  ob es sich um Brandschutz\,  Dachziegel\,  Geländer oder um Trinkwasseran
 lagen handelt\,  wenn Sie im Immobilienbereich\,  in einer Hausverwaltung o
 der im Gebäudemanagement tätig sind\,  sollten Sie mögliche Risiken kenn
 en und managen können. Bei unserem Lehrgang erhalten[..]
URL:https://immobranche.at/events/zertifizierter-objektsicherheitsprueferin-fuer-wohn-und-nicht-wohngebaeude/
END:VEVENT
END:VCALENDAR