BEGIN:VCALENDAR
VERSION:2.0
PRODID:-//eventon.com NONSGML v1.0//EN
CALSCALE:GREGORIAN
METHOD:PUBLISH
BEGIN:VEVENT
UID:69e9de80b0850
DTSTAMP:20260423T085528Z
DTSTART:20261111
DTEND:20261112
LOCATION:Austrian Standards Heinestraße 38\,  1020 Wien
SUMMARY:ZERTIFIZIERTE:R OBJEKTSICHERHEITSPRÜFER:IN FÜR WOHN- UND NICHT-WOHNGEBÄUDE
DESCRIPTION:VeranstaltungsdetailsProfessionelle Objektsicherheitsprüfungen
  sind essenziell für die Werterhaltung eines Gebäudes und im Hinblick auf
  Haftungsfragen. Egal ob es sich um Brandschutz\,  Dachziegel\,  Geländer 
 oder um Trinkwasseranlagen handelt\,  wenn Sie im Immobilienbereich\,  in e
 iner Hausverwaltung oder im Gebäudemanagement tätig sind\,  sollten Sie m
 ögliche Risiken kennen und managen können. Bei unserem Lehrgang erhalten[
 ..]
URL:https://immobranche.at/events/zertifizierter-objektsicherheitsprueferin-fuer-wohn-und-nicht-wohngebaeude-2/
END:VEVENT
END:VCALENDAR