BEGIN:VCALENDAR
VERSION:2.0
PRODID:-//eventon.com NONSGML v1.0//EN
CALSCALE:GREGORIAN
METHOD:PUBLISH
BEGIN:VEVENT
UID:69e9dc5892bf3
DTSTAMP:20260423T084616Z
DTSTART:20261111
DTEND:20261112
LOCATION:Austrian Standards Heinestraße 38\,  1020 Wien
SUMMARY:Zertifizierte:r Experte:in Immobilienbewertung
DESCRIPTION:Immobilien zählen zu den wertvollsten Vermögensgütern – um
 so wichtiger ist ihre professionelle und nachvollziehbare Bewertung. Der Le
 hrgang Expert:in Immobilienbewertung vermittelt Ihnen kompakt und praxisnah
  alle relevanten Kompetenzen\,  um rechtssichere Gutachten zu erstellen\,  
 komplexe Bewertungsverfahren anzuwenden und aktuelle Entwicklungen fundiert
  einzuordnen. Ob für gerichtliche Auseinandersetzungen\,  Investitionsents
 cheidungen oder Projektentwicklungen: Dieser Lehrgang macht[..]
URL:https://immobranche.at/events/zertifizierter-expertein-immobilienbewertung-2/
END:VEVENT
END:VCALENDAR