BEGIN:VCALENDAR
VERSION:2.0
PRODID:-//eventon.com NONSGML v1.0//EN
CALSCALE:GREGORIAN
METHOD:PUBLISH
BEGIN:VEVENT
UID:69e73eb5f4007
DTSTAMP:20260421T090909Z
DTSTART:20260528T143000Z
DTEND:20260528T163000Z
LOCATION:online - machen Sie es sich gemütlich
SUMMARY:Rechtsupdate Wohnungseigentum
DESCRIPTION:Webinar zu aktuellen Entwicklungen im Wohnungseigentumsrecht.
URL:https://immobranche.at/events/rechtsupdate-wohnungseigentum/
END:VEVENT
END:VCALENDAR