BEGIN:VCALENDAR
VERSION:2.0
PRODID:-//eventon.com NONSGML v1.0//EN
CALSCALE:GREGORIAN
METHOD:PUBLISH
BEGIN:VEVENT
UID:69e9dc56c426e
DTSTAMP:20260423T084614Z
DTSTART:20260507
DTEND:20260508
LOCATION:Design Offices Frankfurt Wiesenhรผttenplatz Wiesenhรผttenplatz 25\,  60329 Frankfurt am Main
SUMMARY:Intensivstudium Certified Real Estate Investment Analyst
DESCRIPTION:๐๐ฅ๐๐ โ ๐๐ต๐ฟ ๐ฆ๐ฐ๐ต๐นรผ๐๐๐
 ฒ๐น ๐๐๐บ ๐๐ฟ๐ณ๐ผ๐น๐ด ๐ถ๐ป ๐ฑ๐ฒ๐ฟ ๐๐บ๐
 บ๐ผ๐ฏ๐ถ๐น๐ถ๐ฒ๐ป- ๐๐ป๐ฑ ๐๐ถ๐ป๐ฎ๐ป๐๐๐
 ฒ๐น๐ Profitieren Sie mit dem Studiengang Certified Real Estate Inves
 tment Analyst (CREA) von einer praxisorientierten Weiterbildung\,  die Immo
 bilienwirtschaft mit Finanzanalyse und Investitionen verbindet. ๐ช๐ฎ๐
  ๐ฒ๐ฟ๐๐ฎ๐ฟ๐๐ฒ๐ ๐ฆ๐ถ๐ฒ? โ๏ธ Umfassendes Verstรค
 ndnis fรผr die Analyse von HImmobilieninvestitionen&nbsp; โ๏ธ Praxisorie
 ntierte Inhalte\,  direkt anwendbar in[..]
URL:https://immobranche.at/events/intensiivstudium-certified-real-estate-investment-analyst/
END:VEVENT
END:VCALENDAR