BEGIN:VCALENDAR
VERSION:2.0
PRODID:-//eventon.com NONSGML v1.0//EN
CALSCALE:GREGORIAN
METHOD:PUBLISH
BEGIN:VEVENT
UID:69e73d662e3a5
DTSTAMP:20260421T090334Z
DTSTART:20260519T071500Z
DTEND:20260519T151500Z
LOCATION:ARS Seminarzentrum Schallautzerstraße 2-4\,  1010 Wien
SUMMARY:Thementag Gebäudesicherheit
DESCRIPTION:Gebäudesicherheit betrifft technische\,  rechtliche und organi
 satorische Aspekte gleichermaßen. Am Thementag Gebäudesicherheit erfahren
  Sie\,  wie die ÖNORMEN B 1300 und B 1301 die Anforderungen an Objektsiche
 rheitsprüfungen definieren und wie Sie rechtliche Risiken durch klare Doku
 mentation und sichere Prozesse vermeiden können.
URL:https://immobranche.at/events/thementag-gebaeudesicherheit-3/
END:VEVENT
END:VCALENDAR