BEGIN:VCALENDAR
VERSION:2.0
PRODID:-//eventon.com NONSGML v1.0//EN
CALSCALE:GREGORIAN
METHOD:PUBLISH
BEGIN:VEVENT
UID:69e9f124a67ae
DTSTAMP:20260423T101500Z
DTSTART:20111115T180000Z
DTEND:20111115T200000Z
LOCATION:
SUMMARY:Ganslessen EHL
DESCRIPTION:Ganslessen EHL
URL:https://immobranche.at/events/ganslessen-ehl/
END:VEVENT
END:VCALENDAR