BEGIN:VCALENDAR
VERSION:2.0
PRODID:-//eventon.com NONSGML v1.0//EN
CALSCALE:GREGORIAN
METHOD:PUBLISH
BEGIN:VEVENT
UID:69eb2f20c5a46
DTSTAMP:20260424T085144Z
DTSTART:20111129T170000Z
DTEND:20111129T193000Z
LOCATION:
SUMMARY:Wohin geht der Kapitalmarkt
DESCRIPTION:Spannende Frage! Antworten kommen auf dem von BinderGrösswang 
 veranstalteten Event von:Mag. Markus Beyrer\, Vorstandsvorsitzer ÖIAGDr. D
 irk Notheis\,  Vorstandsvorsitzender Morgan Stanley Österreich und Deutsch
 landMag. Andreas Schieder\,  StaatsekretärDr. Peter Untersperger\,  Vorsta
 ndsvorsitzer Lenzing AG
URL:https://immobranche.at/events/wohin-geht-der-kapitalmarkt/
END:VEVENT
END:VCALENDAR