BEGIN:VCALENDAR
VERSION:2.0
PRODID:-//eventon.com NONSGML v1.0//EN
CALSCALE:GREGORIAN
METHOD:PUBLISH
BEGIN:VEVENT
UID:69e73ea963e70
DTSTAMP:20260421T090857Z
DTSTART:20120218T150000Z
DTEND:20120218T160000Z
LOCATION:
SUMMARY:Workshop: Co-Housing - wie funktioniert das?
DESCRIPTION:Co-Housing &#8211; wie funktioniert das? DI Heinrich Schuller v
 on ATOS Architekten leitet diesen Workshop bei dem den FRagen nachgegangen 
 wird\,  was wigentlich eine Wohngruppe ist\,  wie die Erfahrungen seitens a
 ller Beteiligten aussieht und welche Chancen und Risiken bei eine solchen F
 orm des Bauens bestehen. Wo? Auf der Bauen &#038; Energie[..]
URL:https://immobranche.at/events/workshop-co-housing-wie-funktioniert-das/
END:VEVENT
END:VCALENDAR