BEGIN:VCALENDAR
VERSION:2.0
PRODID:-//eventon.com NONSGML v1.0//EN
CALSCALE:GREGORIAN
METHOD:PUBLISH
BEGIN:VEVENT
UID:69e9f39d2136b
DTSTAMP:20260423T102533Z
DTSTART:20120307T080000Z
DTEND:20120307T160000Z
LOCATION:
SUMMARY:Der Energie Ausweis Profi
DESCRIPTION:2 x 2-tägiger zertifizierter Lehrgang des ÖPWZ für die Berec
 hnung und Kontrolle von Energie-Ausweisen Die Inhalte dieses ersten Moduls:
  Rechtliche Grundlagen Grundlagen der Bauphysik und Bautechnik Grundlagen d
 er Haustechnik und der Berechnung allgemein Referent: Bmstr. Ing. Karl Posc
 halko Ort: Wien Kosten: 1.990 Euro (für Modul 1 und 2) Details
URL:https://immobranche.at/events/der-energie-ausweis-profi/
END:VEVENT
END:VCALENDAR