BEGIN:VCALENDAR
VERSION:2.0
PRODID:-//eventon.com NONSGML v1.0//EN
CALSCALE:GREGORIAN
METHOD:PUBLISH
BEGIN:VEVENT
UID:69ea0aac4700f
DTSTAMP:20260423T120356Z
DTSTART:20120321T163000Z
DTEND:20120321T180000Z
LOCATION:
SUMMARY:Immo-Besteuerung: Was kommt wirklich?
DESCRIPTION:leitnerleitner veranstaltet gemeinsam mit kerschbaumpartner ein
 e Informationsveranstaltung zum aktuellen Steuerthema. Inhalte: Aktueller S
 tatus Quo des Änderungsvorhabens Auswirkungen auf die Immobilienveräuß
 erung Änderung Umsatzsteuergesetz Berechnungsbeispiele Auswirkungen auf d
 en Immobilienmarkt Nur mit Einladung!
URL:https://immobranche.at/events/immo-besteuerung-was-kommt-wirklich/
END:VEVENT
END:VCALENDAR