BEGIN:VCALENDAR
VERSION:2.0
PRODID:-//eventon.com NONSGML v1.0//EN
CALSCALE:GREGORIAN
METHOD:PUBLISH
BEGIN:VEVENT
UID:69e9f33e1759e
DTSTAMP:20260423T102358Z
DTSTART:20120322T163000Z
DTEND:20120322T180000Z
LOCATION:
SUMMARY:Welcome Reception MBA FM
DESCRIPTION:Lehrgangseröffnung des Professional MBA Facility Management. A
 nmeldung und Fragen: fm@tuwien.ac.at
URL:https://immobranche.at/events/welcome-reception-mba-fm/
END:VEVENT
END:VCALENDAR