BEGIN:VCALENDAR
VERSION:2.0
PRODID:-//eventon.com NONSGML v1.0//EN
CALSCALE:GREGORIAN
METHOD:PUBLISH
BEGIN:VEVENT
UID:69e9dd2df3f99
DTSTAMP:20260423T084949Z
DTSTART:20120626T160000Z
DTEND:20120626T210000Z
LOCATION:
SUMMARY:30 Jahre ADVANTA Immobilien
DESCRIPTION:Die ADVANTA geht nun in die vierte Dekade und feiert dies im Ra
 hmen eines Branchentreffs. Neben dem gemeinsamen Rückblick auf die letzten
  3 Jahrzehnte und dem Thema-Immobilien &#8211; darf aber gerne auch über a
 ktuelles geplaudert werden\,  z.B. über Fußball. Immerhin wird extra eine
  Leinwand aufgebaut\,  damit man bei der EM[..]
URL:https://immobranche.at/events/30-jahre-advanta-immobilien/
END:VEVENT
END:VCALENDAR