BEGIN:VCALENDAR
VERSION:2.0
PRODID:-//eventon.com NONSGML v1.0//EN
CALSCALE:GREGORIAN
METHOD:PUBLISH
BEGIN:VEVENT
UID:69e5ee5bbc87f
DTSTAMP:20260420T091403Z
DTSTART:20120628T160000Z
DTEND:20120628T193000Z
LOCATION:
SUMMARY:Kurier Sommer-Immo-Fest
DESCRIPTION:Nur für geladene Gäste!
URL:https://immobranche.at/events/kurier-sommer-immo-fest/
END:VEVENT
END:VCALENDAR