BEGIN:VCALENDAR
VERSION:2.0
PRODID:-//eventon.com NONSGML v1.0//EN
CALSCALE:GREGORIAN
METHOD:PUBLISH
BEGIN:VEVENT
UID:69e9dcad41896
DTSTAMP:20260423T084741Z
DTSTART:20120830
DTEND:20120831
LOCATION:
SUMMARY:Warimpex: Veröffentlichung 1. Halbjahr 2012
DESCRIPTION:Warimpex: Veröffentlichung 1. Halbjahr 2012
URL:https://immobranche.at/events/warimpex-veroeffentlichung-1-halbjahr-2012/
END:VEVENT
END:VCALENDAR