BEGIN:VCALENDAR
VERSION:2.0
PRODID:-//eventon.com NONSGML v1.0//EN
CALSCALE:GREGORIAN
METHOD:PUBLISH
BEGIN:VEVENT
UID:69eb2f6434046
DTSTAMP:20260424T085252Z
DTSTART:20121003T080000Z
DTEND:20121003T093000Z
LOCATION:
SUMMARY:Heizkostenexplosion
DESCRIPTION:Anlässlich der beginnenden Heizperiode und exorbitanter Steige
 rungen bei den Heizkosten lädt proPellets Austria Sie herzlich zur Präsen
 tation der Studie „Lebenszykluskosten neuer Heizsysteme“ ein. Die öste
 rreichische Gesellschaft für Umwelt und Technik (ÖGUT) erhob die Gesamtko
 sten von unterschiedlichen Heizsystemen und zeigt jährliche Kosteneinsparu
 ngen von bis zu € 1.500.- beim Tausch einer Heizanlage[..]
URL:https://immobranche.at/events/heizkostenexplosion/
END:VEVENT
END:VCALENDAR