BEGIN:VCALENDAR
VERSION:2.0
PRODID:-//eventon.com NONSGML v1.0//EN
CALSCALE:GREGORIAN
METHOD:PUBLISH
BEGIN:VEVENT
UID:69e9de5ba26d9
DTSTAMP:20260423T085451Z
DTSTART:20121024T140000Z
DTEND:20121024T190000Z
LOCATION:
SUMMARY:ACSC Kongress
DESCRIPTION:Trendforscher\,  Philipsophen\,  Strategen &#8211; aus allen Ri
 chtungen kommen die Gäste und Sprecher des acsc-Kongresses (Austrian Counc
 il of Shopping Centers)\,  der diesmal den Titel: Handel\,  Himmel\,  Höll
 e trägt. Ronald Barazon wird die Moderation übernehmen &#8211; und wenn e
 r nur halb so lustig ist wie im letzten Jahr\,  ist eine himmlische Stimmun
 g[..]
URL:https://immobranche.at/events/acsc-kongress/
END:VEVENT
END:VCALENDAR