BEGIN:VCALENDAR
VERSION:2.0
PRODID:-//eventon.com NONSGML v1.0//EN
CALSCALE:GREGORIAN
METHOD:PUBLISH
BEGIN:VEVENT
UID:69e9dda44cb8b
DTSTAMP:20260423T085148Z
DTSTART:20121109T130000Z
DTEND:20121109T153000Z
LOCATION:
SUMMARY:Hotel & Tourism Lounge K47
DESCRIPTION:Matthias Hautli und das Team von Kohl &#038; Partner laden zum 
 Thema &#8222;Hotelerie &#038; Tourismus&#8220; ins K47 ein. Das Thema diesm
 al: Erfolgsfaktoren eigentümergeführter Stadthotels Am Podium: MAG. CHRIS
 TIANE WEISSENBORN\,  Geschäftsführerin Lenikus Hotel- und Gastronomiebe
 triebs GmbH DR. FRANZ HARTL\,  Geschäftsführer Österreichische Hotel-
  und Tourismusbank GmbH (ÖHT) OTTO WIESENTHAL\,  Eigentümer Hotel Altst
 adt[..]
URL:https://immobranche.at/events/hotel-tourism-lounge-k47/
END:VEVENT
END:VCALENDAR