BEGIN:VCALENDAR
VERSION:2.0
PRODID:-//eventon.com NONSGML v1.0//EN
CALSCALE:GREGORIAN
METHOD:PUBLISH
BEGIN:VEVENT
UID:69e5ed9cbcbd5
DTSTAMP:20260420T091052Z
DTSTART:20121206T120000Z
DTEND:20121206T160000Z
LOCATION:
SUMMARY:Selbstberechnung der Immobilienertragssteuer
DESCRIPTION:Abgesehen davon\,  dass der Inhalt dieses Seminars natürlich a
 ktueller nicht sein könnte\,  gibt es eine Neuerung\,  die berichtenswert 
 &#8211; und zukunftsweisend &#8211; ist: Die Veranstaltung wird auch online
  live übertragen. Damit erspart man sich\,  wenn man nicht in Wien arbeite
 t\,  möglicherweise die anstrengende und Zeit raubende Anreise. Aus dem In
 halt:[..]
URL:https://immobranche.at/events/selbstberechnung-der-immobilienertragssteuer-2/
END:VEVENT
END:VCALENDAR