BEGIN:VCALENDAR
VERSION:2.0
PRODID:-//eventon.com NONSGML v1.0//EN
CALSCALE:GREGORIAN
METHOD:PUBLISH
BEGIN:VEVENT
UID:69e9f24d19f22
DTSTAMP:20260423T101957Z
DTSTART:20121214T080000Z
DTEND:20121214T160000Z
LOCATION:
SUMMARY:Sanierung von Wohnungseigentum
DESCRIPTION:Im Seminar erfahren Sie die wesentlichen Ursachen\,  Maßnahmen
  und Sanierungsmöglichkeiten der häufigsten Schadensgruppen\,  sowie die 
 Verwalterpflichten in deren Beauftragung. Veranstalter: ARS &#8211; Akademi
 e für Recht\,  Steuern &#038; Wirtschaft Ort: ARS Seminarzentrum\,  Schall
 autzerstraße 2-4\,  1010 Wien Alle Details finden Sie hier
URL:https://immobranche.at/events/sanierung-von-wohnungseigentum/
END:VEVENT
END:VCALENDAR