BEGIN:VCALENDAR
VERSION:2.0
PRODID:-//eventon.com NONSGML v1.0//EN
CALSCALE:GREGORIAN
METHOD:PUBLISH
BEGIN:VEVENT
UID:69e9dd46065bb
DTSTAMP:20260423T085014Z
DTSTART:20121214T150000Z
DTEND:20121214T213000Z
LOCATION:
SUMMARY:ERA Maklertagung mit Awards und Weihnachtsfeier
DESCRIPTION:ERA Austria &#8211; Yearend-Event ERA Maklertagung mit Awards u
 nd Weihnachtsfeier Zeit: 16 Uhr bis Open end Ort: Hotel Ploberger\,  Wels N
 ur mit Einladung!
URL:https://immobranche.at/events/era-maklertagung-mit-awards-und-weihnachtsfeier/
END:VEVENT
END:VCALENDAR