BEGIN:VCALENDAR
VERSION:2.0
PRODID:-//eventon.com NONSGML v1.0//EN
CALSCALE:GREGORIAN
METHOD:PUBLISH
BEGIN:VEVENT
UID:69e73ebaf3bd4
DTSTAMP:20260421T090914Z
DTSTART:20130110T080000Z
DTEND:20130110T150000Z
LOCATION:
SUMMARY:Immobilienkennzahlen
DESCRIPTION:Anwendung der wesentlichsten Kennzahlen in der Immobilienwirtsc
 haft Referent: Dr. Peter Wendlinger Kosten: 540 Euro Veranstalter: Linde O
 rt: Hotel Mercure Wien City Details
URL:https://immobranche.at/events/immobilienkennzahlen/
END:VEVENT
END:VCALENDAR