BEGIN:VCALENDAR
VERSION:2.0
PRODID:-//eventon.com NONSGML v1.0//EN
CALSCALE:GREGORIAN
METHOD:PUBLISH
BEGIN:VEVENT
UID:69e5ed48c1229
DTSTAMP:20260420T090928Z
DTSTART:20130409T070000Z
DTEND:20130409T150000Z
LOCATION:
SUMMARY:Jahrestagung für Immobilienmanager & Treuhänder
DESCRIPTION:Zweite Runde für die im vorigen Jahr erstmals ausgerichtete Ve
 ranstaltung der FH Wien in Kooperation mit dem Linde Verlag. Der Linde Verl
 ag Wien sowie das Institut für Immobilienwirtschaft an der FHWien der Wirt
 schaftskammer Wien freuen sich\,  Sie zur zweiten Jahrestagung für Immobil
 ienexperten am 9. April 2013 einladen zu dürfen. Ziele[..]
URL:https://immobranche.at/events/jahrestagung-fuer-immobilienmanager-treuhaender-2/
END:VEVENT
END:VCALENDAR