BEGIN:VCALENDAR
VERSION:2.0
PRODID:-//eventon.com NONSGML v1.0//EN
CALSCALE:GREGORIAN
METHOD:PUBLISH
BEGIN:VEVENT
UID:69e9e1f15914c
DTSTAMP:20260423T091009Z
DTSTART:20130417T140000Z
DTEND:20130417T180000Z
LOCATION:
SUMMARY:9. Wiener Immobilientag
DESCRIPTION:Im Rahmen des 9. Wiener Immobilientages wird der 2. Geburtstag 
 der Immobiliencard mit geladenen Gästen gefeiert.
URL:https://immobranche.at/events/9-wiener-immobilientag/
END:VEVENT
END:VCALENDAR