BEGIN:VCALENDAR
VERSION:2.0
PRODID:-//eventon.com NONSGML v1.0//EN
CALSCALE:GREGORIAN
METHOD:PUBLISH
BEGIN:VEVENT
UID:69e5ee56229c8
DTSTAMP:20260420T091358Z
DTSTART:20130418
DTEND:20130419
LOCATION:
SUMMARY:INREV Annual Conference
DESCRIPTION:Martin Sabelko (CBRE Global Investors) schwärmt von den INREV 
 Konferenzen. Verständlich\,  sie sind nämlich wirklich international und 
 bieten einen Mehrwert. Plätze hierfür sind selbst bei Managern der oberen
  Liga heiß begehrt. Leider dürfen nur Mitglieder von INREV (das ist die V
 ereinigung nicht gelisteter Immo-Fonds) mitmachen. Ort: Barcelona Details
URL:https://immobranche.at/events/inrev-annual-conference-2/
END:VEVENT
END:VCALENDAR