BEGIN:VCALENDAR
VERSION:2.0
PRODID:-//eventon.com NONSGML v1.0//EN
CALSCALE:GREGORIAN
METHOD:PUBLISH
BEGIN:VEVENT
UID:69e73e3812432
DTSTAMP:20260421T090704Z
DTSTART:20161111
DTEND:20161112
LOCATION:
SUMMARY:Interalpine Bautage
DESCRIPTION:Bauen im alpinen Raum bringt spezielle Anforderungen mit sich\,
   die einen hohen unternehmerischen sowie volkswirtschaftlichen Kostenfakto
 r darstellen. Bei den INTERALPINEN BAUTAGEN im Congresspark Igls bei Innsbr
 uck in Tirol werden diese Herausforderungen aus unterschiedlichen Sichtweis
 en von international renommierten Experten aufgezeigt und mit einem Fachpub
 likum diskutiert. Kosten: 180 Euro Anmeldung online:  www.ibi-kompetenz.e
 u Info:[..]
URL:https://immobranche.at/events/interalpine-bautage-2/
END:VEVENT
END:VCALENDAR